BEGIN:VCALENDAR
VERSION:2.0
PRODID:-//wp-events-plugin.com//7.2.3.1//EN
TZID:Europe/London
X-WR-TIMEZONE:Europe/London
BEGIN:VEVENT
UID:0-1@ukrnsoton.org.uk
DTSTART;TZID=Europe/London:20260129T110000
DTEND;TZID=Europe/London:20260129T123000
DTSTAMP:20260109T102731Z
URL:https://www.ukrnsoton.org.uk/events/reproducibilitea/
SUMMARY:ReproducibiliTEA
DESCRIPTION:Our next ReproducibiliTea session will focus on self-correction
  in science - what is it and why it so often doesn’t work the way we ima
 gine it does.\n\nWe will discuss topics and questions raised in the follow
 ing paper:\n\nVazire\, S.\, &amp\;amp\; Holcombe\, A. O. (2021). Where Are
  the Self-Correcting Mechanisms in Science? Review of General Psychology\,
  26(2)\, 212-223. https://doi.org/10.1177/10892680211033912\n\nThe discuss
 ion will be relevant across disciplines including quantitative\, qualitati
 ve\, and mixed-methods research and may be especially relevant for PhD stu
 dents\, early-career researchers\, and anyone interested in how research c
 ultures shape what counts as reliable knowledge.\n\nPlease email Kate : k.
 f.goldie@soton.ac.uk for more information and to register.
LOCATION:Highfield Campus\, Highfield\, Southampton\, United Kingdom
X-APPLE-STRUCTURED-LOCATION;VALUE=URI;X-ADDRESS=Highfield\, Southampton\, U
 nited Kingdom;X-APPLE-RADIUS=100;X-TITLE=Highfield Campus:geo:0,0
END:VEVENT
BEGIN:VTIMEZONE
TZID:Europe/London
X-LIC-LOCATION:Europe/London
BEGIN:STANDARD
DTSTART:20251026T010000
TZOFFSETFROM:+0100
TZOFFSETTO:+0000
TZNAME:GMT
END:STANDARD
END:VTIMEZONE
END:VCALENDAR