BEGIN:VCALENDAR
VERSION:2.0
PRODID:-//wp-events-plugin.com//7.2.3.1//EN
TZID:Europe/London
X-WR-TIMEZONE:Europe/London
BEGIN:VEVENT
UID:0-4@ukrnsoton.org.uk
DTSTART;TZID=Europe/London:20260422T110000
DTEND;TZID=Europe/London:20260422T123000
DTSTAMP:20260109T104340Z
URL:https://www.ukrnsoton.org.uk/events/reproducibilitea-4/
SUMMARY:ReproducibiliTEA
DESCRIPTION:Please join us for ReproducibiliTEA - a grassroots journal club
  initiative aimed at fostering a community focused on open and reproducibl
 e research. Join us for an open\, informal space to discuss key ideas in o
 pen research - with free pizza and refreshments!\n\nTheme and paper for th
 is session TBC.\n\nPlease email Kate : k.f.goldie@soton.ac.uk for more inf
 ormation and to register\, or to suggest a theme/paper.
END:VEVENT
BEGIN:VTIMEZONE
TZID:Europe/London
X-LIC-LOCATION:Europe/London
BEGIN:DAYLIGHT
DTSTART:20260329T020000
TZOFFSETFROM:+0000
TZOFFSETTO:+0100
TZNAME:BST
END:DAYLIGHT
END:VTIMEZONE
END:VCALENDAR